BEGIN:VCALENDAR
VERSION:2.0
PRODID:-//HCC Baseball - ECPv6.15.3//NONSGML v1.0//EN
CALSCALE:GREGORIAN
METHOD:PUBLISH
X-WR-CALNAME:HCC Baseball
X-ORIGINAL-URL:https://www.hccbaseball.com
X-WR-CALDESC:Events for HCC Baseball
REFRESH-INTERVAL;VALUE=DURATION:PT1H
X-Robots-Tag:noindex
X-PUBLISHED-TTL:PT1H
BEGIN:VTIMEZONE
TZID:America/New_York
BEGIN:DAYLIGHT
TZOFFSETFROM:-0500
TZOFFSETTO:-0400
TZNAME:EDT
DTSTART:20260308T070000
END:DAYLIGHT
BEGIN:STANDARD
TZOFFSETFROM:-0400
TZOFFSETTO:-0500
TZNAME:EST
DTSTART:20261101T060000
END:STANDARD
END:VTIMEZONE
BEGIN:VEVENT
DTSTART;TZID=America/New_York:20260423T153000
DTEND;TZID=America/New_York:20260423T153000
DTSTAMP:20260423T141018
CREATED:20260204T182857Z
LAST-MODIFIED:20260204T182907Z
UID:1175-1776958200-1776958200@www.hccbaseball.com
SUMMARY:@ Massasoit CC
DESCRIPTION:Single 9 Inning Conference Game
URL:https://www.hccbaseball.com/2026schedule/massasoit-cc/
LOCATION:Massasoit Community College\, 1 Massasoit Blvd\, Brockton\, MA\, 02302\, United States
ATTACH;FMTTYPE=image/jpeg:https://www.hccbaseball.com/wp-content/uploads/2025/01/massasoit-e1738346191505.jpg
END:VEVENT
END:VCALENDAR