BEGIN:VCALENDAR
VERSION:2.0
PRODID:-//HCC Baseball - ECPv6.15.3//NONSGML v1.0//EN
CALSCALE:GREGORIAN
METHOD:PUBLISH
X-ORIGINAL-URL:https://www.hccbaseball.com
X-WR-CALDESC:Events for HCC Baseball
REFRESH-INTERVAL;VALUE=DURATION:PT1H
X-Robots-Tag:noindex
X-PUBLISHED-TTL:PT1H
BEGIN:VTIMEZONE
TZID:America/New_York
BEGIN:DAYLIGHT
TZOFFSETFROM:-0500
TZOFFSETTO:-0400
TZNAME:EDT
DTSTART:20260308T070000
END:DAYLIGHT
BEGIN:STANDARD
TZOFFSETFROM:-0400
TZOFFSETTO:-0500
TZNAME:EST
DTSTART:20261101T060000
END:STANDARD
END:VTIMEZONE
BEGIN:VEVENT
DTSTART;TZID=America/New_York:20260502T120000
DTEND;TZID=America/New_York:20260502T120000
DTSTAMP:20260423T142153
CREATED:20260204T183725Z
LAST-MODIFIED:20260204T183747Z
UID:1183-1777723200-1777723200@www.hccbaseball.com
SUMMARY:vs Quinsigamond CC (DH)
DESCRIPTION:Conference Double Header – Two 7 Inning Games
URL:https://www.hccbaseball.com/2026schedule/vs-quinsigamond-cc-dh/
LOCATION:Cougar Field\, 303 Homestead Ave\, Holyoke\, MA\, 01040\, United States
ATTACH;FMTTYPE=image/jpeg:https://www.hccbaseball.com/wp-content/uploads/2025/01/quinsigamond-e1738346164330.jpg
END:VEVENT
BEGIN:VEVENT
DTSTART;TZID=America/New_York:20260504T153000
DTEND;TZID=America/New_York:20260504T153000
DTSTAMP:20260423T142153
CREATED:20260217T165943Z
LAST-MODIFIED:20260217T170258Z
UID:1236-1777908600-1777908600@www.hccbaseball.com
SUMMARY:@ Westfield State (JV)
DESCRIPTION:Single 9 Inning Non Conference Game
URL:https://www.hccbaseball.com/2026schedule/westfield-state-jv/
LOCATION:Westfield State (Hagan Field)\, 395 Western Ave\, Westfield\, MA\, 01085\, United States
ATTACH;FMTTYPE=image/jpeg:https://www.hccbaseball.com/wp-content/uploads/2026/02/WestfieldState-e1771347489282.jpg
END:VEVENT
END:VCALENDAR